BEGIN:VCALENDAR
VERSION:2.0
PRODID:-//HSV Biburg-Stadelhofen - ECPv6.11.2.1//NONSGML v1.0//EN
CALSCALE:GREGORIAN
METHOD:PUBLISH
X-WR-CALNAME:HSV Biburg-Stadelhofen
X-ORIGINAL-URL:https://hsv-biburg-stadelhofen.de
X-WR-CALDESC:Veranstaltungen für HSV Biburg-Stadelhofen
REFRESH-INTERVAL;VALUE=DURATION:PT1H
X-Robots-Tag:noindex
X-PUBLISHED-TTL:PT1H
BEGIN:VTIMEZONE
TZID:UTC
BEGIN:STANDARD
TZOFFSETFROM:+0000
TZOFFSETTO:+0000
TZNAME:UTC
DTSTART:20260101T000000
END:STANDARD
END:VTIMEZONE
BEGIN:VEVENT
DTSTART;TZID=UTC:20260423T000000
DTEND;TZID=UTC:20260426T235959
DTSTAMP:20260424T125927
CREATED:20251104T175604Z
LAST-MODIFIED:20251104T175605Z
UID:3280-1776902400-1777247999@hsv-biburg-stadelhofen.de
SUMMARY:Großgemeindepokalschießen
DESCRIPTION:Vom 23.04.2026 bis 26.04.2026 findet das Großgemeindepokalschießen des Marktes Titting bei uns statt. Wir sind der ausrichtende Verein. \n\n\n\nNähere Informationen und auch die genauen Schießzeiten werden noch bekannt gegeben.
URL:https://hsv-biburg-stadelhofen.de/termine/grossgemeindepokalschiessen/
END:VEVENT
END:VCALENDAR